BEGIN:VCALENDAR
VERSION:2.0
PRODID:-//Soci&eacute;t&eacute; Numismatique de Qu&eacute;bec - ECPv6.15.18//NONSGML v1.0//EN
CALSCALE:GREGORIAN
METHOD:PUBLISH
X-ORIGINAL-URL:https://snquebec.ca
X-WR-CALDESC:Évènements pour Soci&eacute;t&eacute; Numismatique de Qu&eacute;bec
REFRESH-INTERVAL;VALUE=DURATION:PT1H
X-Robots-Tag:noindex
X-PUBLISHED-TTL:PT1H
BEGIN:VTIMEZONE
TZID:America/New_York
BEGIN:DAYLIGHT
TZOFFSETFROM:-0500
TZOFFSETTO:-0400
TZNAME:EDT
DTSTART:20240310T070000
END:DAYLIGHT
BEGIN:STANDARD
TZOFFSETFROM:-0400
TZOFFSETTO:-0500
TZNAME:EST
DTSTART:20241103T060000
END:STANDARD
BEGIN:DAYLIGHT
TZOFFSETFROM:-0500
TZOFFSETTO:-0400
TZNAME:EDT
DTSTART:20250309T070000
END:DAYLIGHT
BEGIN:STANDARD
TZOFFSETFROM:-0400
TZOFFSETTO:-0500
TZNAME:EST
DTSTART:20251102T060000
END:STANDARD
BEGIN:DAYLIGHT
TZOFFSETFROM:-0500
TZOFFSETTO:-0400
TZNAME:EDT
DTSTART:20260308T070000
END:DAYLIGHT
BEGIN:STANDARD
TZOFFSETFROM:-0400
TZOFFSETTO:-0500
TZNAME:EST
DTSTART:20261101T060000
END:STANDARD
END:VTIMEZONE
BEGIN:VEVENT
DTSTART;TZID=America/New_York:20251201T183000
DTEND;TZID=America/New_York:20251201T220000
DTSTAMP:20260425T122850
CREATED:20250103T041056Z
LAST-MODIFIED:20250103T041056Z
UID:3153-1764613800-1764626400@snquebec.ca
SUMMARY:Réunion annuelle de la SNQ (Élection du C.A.)
DESCRIPTION:
URL:https://snquebec.ca/event/reunion-annuelle-de-la-snq-election-du-c-a/
LOCATION:Centre  Récréatif St-Rodrigue\, 130 50e Rue E\, Québec\, Québec\, G1H 0C7\, Canada
ORGANIZER;CN="SNQ":MAILTO:adhesion@snquebec.ca
END:VEVENT
END:VCALENDAR