BEGIN:VCALENDAR
VERSION:2.0
PRODID:-//Soci&eacute;t&eacute; Numismatique de Qu&eacute;bec - ECPv6.15.18//NONSGML v1.0//EN
CALSCALE:GREGORIAN
METHOD:PUBLISH
X-WR-CALNAME:Soci&eacute;t&eacute; Numismatique de Qu&eacute;bec
X-ORIGINAL-URL:https://snquebec.ca
X-WR-CALDESC:Évènements pour Soci&eacute;t&eacute; Numismatique de Qu&eacute;bec
REFRESH-INTERVAL;VALUE=DURATION:PT1H
X-Robots-Tag:noindex
X-PUBLISHED-TTL:PT1H
BEGIN:VTIMEZONE
TZID:America/New_York
BEGIN:DAYLIGHT
TZOFFSETFROM:-0500
TZOFFSETTO:-0400
TZNAME:EDT
DTSTART:20230312T070000
END:DAYLIGHT
BEGIN:STANDARD
TZOFFSETFROM:-0400
TZOFFSETTO:-0500
TZNAME:EST
DTSTART:20231105T060000
END:STANDARD
BEGIN:DAYLIGHT
TZOFFSETFROM:-0500
TZOFFSETTO:-0400
TZNAME:EDT
DTSTART:20240310T070000
END:DAYLIGHT
BEGIN:STANDARD
TZOFFSETFROM:-0400
TZOFFSETTO:-0500
TZNAME:EST
DTSTART:20241103T060000
END:STANDARD
BEGIN:DAYLIGHT
TZOFFSETFROM:-0500
TZOFFSETTO:-0400
TZNAME:EDT
DTSTART:20250309T070000
END:DAYLIGHT
BEGIN:STANDARD
TZOFFSETFROM:-0400
TZOFFSETTO:-0500
TZNAME:EST
DTSTART:20251102T060000
END:STANDARD
END:VTIMEZONE
BEGIN:VEVENT
DTSTART;VALUE=DATE:20241004
DTEND;VALUE=DATE:20241006
DTSTAMP:20260422T022901
CREATED:20240722T220907Z
LAST-MODIFIED:20240722T220907Z
UID:3007-1728000000-1728172799@snquebec.ca
SUMMARY:Salon Toronto Coin Expo
DESCRIPTION:
URL:https://snquebec.ca/event/salon-toronto-coin-expo/
LOCATION:Toronto Reference Library\, 789 Yonge St.\, Toronto\, Ontario\, Canada
END:VEVENT
BEGIN:VEVENT
DTSTART;TZID=America/New_York:20241007T183000
DTEND;TZID=America/New_York:20241007T220000
DTSTAMP:20260422T022901
CREATED:20240722T215733Z
LAST-MODIFIED:20240722T215733Z
UID:2998-1728325800-1728338400@snquebec.ca
SUMMARY:Rencontre mensuelle SNQ
DESCRIPTION:
URL:https://snquebec.ca/event/rencontre-mensuelle-snq-5/
LOCATION:Centre  Récréatif St-Rodrigue\, 130 50e Rue E\, Québec\, Québec\, G1H 0C7\, Canada
ORGANIZER;CN="SNQ":MAILTO:adhesion@snquebec.ca
END:VEVENT
BEGIN:VEVENT
DTSTART;VALUE=DATE:20241008
DTEND;VALUE=DATE:20241011
DTSTAMP:20260422T022901
CREATED:20240722T221204Z
LAST-MODIFIED:20240722T221204Z
UID:3012-1728345600-1728604799@snquebec.ca
SUMMARY:Salon Nuphilex
DESCRIPTION:
URL:https://snquebec.ca/event/salon-nuphilex/
LOCATION:Nouvelle Résidence McGill\, 3625 avenue du Parc\, Montréal\, Québec\, Canada
END:VEVENT
BEGIN:VEVENT
DTSTART;VALUE=DATE:20241019
DTEND;VALUE=DATE:20241020
DTSTAMP:20260422T022901
CREATED:20240722T220952Z
LAST-MODIFIED:20240722T221300Z
UID:3010-1729296000-1729382399@snquebec.ca
SUMMARY:ANFC* Détails à venir au cours des prochains mois
DESCRIPTION:
URL:https://snquebec.ca/event/anfc/
LOCATION:Québec
END:VEVENT
BEGIN:VEVENT
DTSTART;VALUE=DATE:20241026
DTEND;VALUE=DATE:20241028
DTSTAMP:20260422T022901
CREATED:20240722T220649Z
LAST-MODIFIED:20240722T220649Z
UID:3004-1729900800-1730073599@snquebec.ca
SUMMARY:Salon Torex
DESCRIPTION:
URL:https://snquebec.ca/event/salon-torex/
LOCATION:Crowne plaza Toronto airport Hotel\,  33 Carlson Court\, Toronto\, 33 Carlson Court\, Toronto\, Ontario\, Canada
END:VEVENT
END:VCALENDAR