BEGIN:VCALENDAR
VERSION:2.0
PRODID:-//Soci&eacute;t&eacute; Numismatique de Qu&eacute;bec - ECPv6.15.18//NONSGML v1.0//EN
CALSCALE:GREGORIAN
METHOD:PUBLISH
X-ORIGINAL-URL:https://snquebec.ca
X-WR-CALDESC:Évènements pour Soci&eacute;t&eacute; Numismatique de Qu&eacute;bec
REFRESH-INTERVAL;VALUE=DURATION:PT1H
X-Robots-Tag:noindex
X-PUBLISHED-TTL:PT1H
BEGIN:VTIMEZONE
TZID:America/New_York
BEGIN:DAYLIGHT
TZOFFSETFROM:-0500
TZOFFSETTO:-0400
TZNAME:EDT
DTSTART:20220313T070000
END:DAYLIGHT
BEGIN:STANDARD
TZOFFSETFROM:-0400
TZOFFSETTO:-0500
TZNAME:EST
DTSTART:20221106T060000
END:STANDARD
BEGIN:DAYLIGHT
TZOFFSETFROM:-0500
TZOFFSETTO:-0400
TZNAME:EDT
DTSTART:20230312T070000
END:DAYLIGHT
BEGIN:STANDARD
TZOFFSETFROM:-0400
TZOFFSETTO:-0500
TZNAME:EST
DTSTART:20231105T060000
END:STANDARD
BEGIN:DAYLIGHT
TZOFFSETFROM:-0500
TZOFFSETTO:-0400
TZNAME:EDT
DTSTART:20240310T070000
END:DAYLIGHT
BEGIN:STANDARD
TZOFFSETFROM:-0400
TZOFFSETTO:-0500
TZNAME:EST
DTSTART:20241103T060000
END:STANDARD
END:VTIMEZONE
BEGIN:VEVENT
DTSTART;TZID=America/New_York:20230904T183000
DTEND;TZID=America/New_York:20230904T220000
DTSTAMP:20260421T121206
CREATED:20230303T021623Z
LAST-MODIFIED:20230303T021705Z
UID:2552-1693852200-1693864800@snquebec.ca
SUMMARY:Réunion mensuelle
DESCRIPTION:
URL:https://snquebec.ca/event/reunion-mensuelle-5/
LOCATION:Centre Culturel et Communautaire de Charlesbourg\, 7575 Boul. Henri Bourassa\, Québec\, G1H 3E6\, Canada
ORGANIZER;CN="SNQ":MAILTO:adhesion@snquebec.ca
END:VEVENT
END:VCALENDAR