BEGIN:VCALENDAR
VERSION:2.0
PRODID:-//Soci&eacute;t&eacute; Numismatique de Qu&eacute;bec - ECPv6.15.18//NONSGML v1.0//EN
CALSCALE:GREGORIAN
METHOD:PUBLISH
X-WR-CALNAME:Soci&eacute;t&eacute; Numismatique de Qu&eacute;bec
X-ORIGINAL-URL:https://snquebec.ca
X-WR-CALDESC:Évènements pour Soci&eacute;t&eacute; Numismatique de Qu&eacute;bec
REFRESH-INTERVAL;VALUE=DURATION:PT1H
X-Robots-Tag:noindex
X-PUBLISHED-TTL:PT1H
BEGIN:VTIMEZONE
TZID:America/New_York
BEGIN:DAYLIGHT
TZOFFSETFROM:-0500
TZOFFSETTO:-0400
TZNAME:EDT
DTSTART:20220313T070000
END:DAYLIGHT
BEGIN:STANDARD
TZOFFSETFROM:-0400
TZOFFSETTO:-0500
TZNAME:EST
DTSTART:20221106T060000
END:STANDARD
BEGIN:DAYLIGHT
TZOFFSETFROM:-0500
TZOFFSETTO:-0400
TZNAME:EDT
DTSTART:20230312T070000
END:DAYLIGHT
BEGIN:STANDARD
TZOFFSETFROM:-0400
TZOFFSETTO:-0500
TZNAME:EST
DTSTART:20231105T060000
END:STANDARD
BEGIN:DAYLIGHT
TZOFFSETFROM:-0500
TZOFFSETTO:-0400
TZNAME:EDT
DTSTART:20240310T070000
END:DAYLIGHT
BEGIN:STANDARD
TZOFFSETFROM:-0400
TZOFFSETTO:-0500
TZNAME:EST
DTSTART:20241103T060000
END:STANDARD
END:VTIMEZONE
BEGIN:VEVENT
DTSTART;TZID=America/New_York:20230403T183000
DTEND;TZID=America/New_York:20230403T220000
DTSTAMP:20260421T062819
CREATED:20230303T020647Z
LAST-MODIFIED:20230303T021447Z
UID:2540-1680546600-1680559200@snquebec.ca
SUMMARY:Réunion mensuelle
DESCRIPTION:
URL:https://snquebec.ca/event/reunion-mensuelle-2/
LOCATION:Centre Culturel et Communautaire de Charlesbourg\, 7575 Boul. Henri Bourassa\, Québec\, G1H 3E6\, Canada
ORGANIZER;CN="SNQ":MAILTO:adhesion@snquebec.ca
END:VEVENT
BEGIN:VEVENT
DTSTART;TZID=America/New_York:20230419T190000
DTEND;TZID=America/New_York:20230419T210000
DTSTAMP:20260421T062819
CREATED:20230408T201209Z
LAST-MODIFIED:20230408T201209Z
UID:2653-1681930800-1681938000@snquebec.ca
SUMMARY:ANFC (Rencontre Virtuelle)
DESCRIPTION:
URL:https://snquebec.ca/event/anfc-rencontre-virtuelle/
LOCATION:L’Association des Numismates Francophones du Canada (ANFC)\, Canada
END:VEVENT
BEGIN:VEVENT
DTSTART;VALUE=DATE:20230421
DTEND;VALUE=DATE:20230424
DTSTAMP:20260421T062819
CREATED:20230408T200418Z
LAST-MODIFIED:20230408T200418Z
UID:2647-1682035200-1682294399@snquebec.ca
SUMMARY:Nuphilex
DESCRIPTION:Nuphilex®\nSalon et encans de timbres et monnaies \nNuphilex est le salon le plus prestigieux du Canada à réunir la philatélie et la numismatique en un seul événement. Son fondateur M. Serge Laramée en a fait la priorité dès le début en 1981\, de ce fait les amateurs de timbres et de monnaies pourront s’y rencontrer et partager leur passion.
URL:https://snquebec.ca/event/nuphilex/
LOCATION:Nuphilex\, 3625\, Ave. du Parc\, Montréal\, Québec\, H2X 3P8\, Canada
END:VEVENT
END:VCALENDAR